BEGIN:VCALENDAR
VERSION:2.0
PRODID:-//lewiscountygal.org//NONSGML kigkonsult.se iCalcreator 2.30.10//
CALSCALE:GREGORIAN
METHOD:PUBLISH
UID:bba85d6a-1d12-49ba-9fcb-982c3a9d9245
X-WR-CALDESC:Guardian Ad Litem Core Training via Zoom
X-WR-RELCALID:a017a417c10ae0cfceb3d6568c8537ab
X-WR-TIMEZONE:America/New_York
BEGIN:VTIMEZONE
TZID:America/New_York
BEGIN:STANDARD
TZNAME:EST
DTSTART:20201101T020000
TZOFFSETFROM:-0400
TZOFFSETTO:-0500
RDATE:20211107T020000
RDATE:20221106T020000
END:STANDARD
BEGIN:DAYLIGHT
TZNAME:EDT
DTSTART:20210314T020000
TZOFFSETFROM:-0500
TZOFFSETTO:-0400
RDATE:20220313T020000
RDATE:20230312T020000
END:DAYLIGHT
END:VTIMEZONE
BEGIN:VEVENT
UID:b5a44061-507f-453f-9798-f99a75ac5039
DTSTAMP:20260425T035617Z
DESCRIPTION:Guardian Ad Litem Core Training via Zoom
DTSTART;TZID=America/New_York:20210920T100000
DTEND;TZID=America/New_York:20210920T193000
LOCATION:Via Zoom
SUMMARY:NEW GAL Core Training Begins (Zoom)
END:VEVENT
END:VCALENDAR
