BEGIN:VCALENDAR
VERSION:2.0
PRODID:-//lewiscountygal.org//NONSGML kigkonsult.se iCalcreator 2.30.10//
CALSCALE:GREGORIAN
METHOD:PUBLISH
UID:49c30a68-7eef-4bb9-b1e8-016e3c45d1a9
X-WR-CALDESC:GAL Training regarding Bill 1194 and changes for Families in D
 ependency
X-WR-RELCALID:f70b57a6e463511ac0010104d8c4442c
X-WR-TIMEZONE:America/New_York
BEGIN:VTIMEZONE
TZID:America/New_York
BEGIN:STANDARD
TZNAME:EST
DTSTART:20201101T020000
TZOFFSETFROM:-0400
TZOFFSETTO:-0500
RDATE:20211107T020000
RDATE:20221106T020000
END:STANDARD
BEGIN:DAYLIGHT
TZNAME:EDT
DTSTART:20210314T020000
TZOFFSETFROM:-0500
TZOFFSETTO:-0400
RDATE:20220313T020000
RDATE:20230312T020000
END:DAYLIGHT
END:VTIMEZONE
BEGIN:VEVENT
UID:ecbe3116-4b5f-4acd-b584-39efbda6fc65
DTSTAMP:20260425T040529Z
DESCRIPTION:GAL Training regarding Bill 1194 and changes for Families in De
 pendency
DTSTART;TZID=America/New_York:20210921T150000
DTEND;TZID=America/New_York:20210921T170000
LOCATION:ZOOM
SUMMARY:ALL GAL Safety Framework Training (Zoom)
END:VEVENT
END:VCALENDAR
